<?xml version="1.0" encoding="UTF-8" standalone="no"?>
<metadata xml:lang="sv">
<Esri>
<CreaDate>20180815</CreaDate>
<CreaTime>12494700</CreaTime>
<ArcGISFormat>1.0</ArcGISFormat>
<SyncOnce>FALSE</SyncOnce>
<DataProperties>
<lineage>
<Process Date="20180815" Time="124947" ToolSource="c:\program files (x86)\arcgis\desktop10.4\ArcToolbox\Toolboxes\Data Management Tools.tbx\CreateMosaicDataset">CreateMosaicDataset Databasanslutningar\sde_ortho@gda.sde Skelleftea_2012 "PROJCS['SWEREF99_TM',GEOGCS['GCS_SWEREF99',DATUM['D_SWEREF99',SPHEROID['GRS_1980',6378137.0,298.257222101]],PRIMEM['Greenwich',0.0],UNIT['Degree',0.0174532925199433]],PROJECTION['Transverse_Mercator'],PARAMETER['False_Easting',500000.0],PARAMETER['False_Northing',0.0],PARAMETER['Central_Meridian',15.0],PARAMETER['Scale_Factor',0.9996],PARAMETER['Latitude_Of_Origin',0.0],UNIT['Meter',1.0]];-5120900 -9998100 10000;-100000 10000;-100000 10000;0,001;0,001;0,001;IsHighPrecision" 3 # NATURAL_COLOR_RGB "Red 630 690;Green 530 570;Blue 440 510"</Process>
<Process Date="20180815" Time="125239" ToolSource="c:\program files (x86)\arcgis\desktop10.4\ArcToolbox\Toolboxes\Data Management Tools.tbx\AddRastersToMosaicDataset">AddRastersToMosaicDataset Databasanslutningar\sde_ortho@gda.sde\sde_ortho.GDA.Skelleftea_2012 "Raster Dataset" O:\Ortofoton\Kommunen\Skellefteå2012\tif UPDATE_CELL_SIZES UPDATE_BOUNDARY NO_OVERVIEWS # 0 1500 # # SUBFOLDERS ALLOW_DUPLICATES NO_PYRAMIDS NO_STATISTICS NO_THUMBNAILS # NO_FORCE_SPATIAL_REFERENCE NO_STATISTICS #</Process>
<Process Date="20180815" Time="125532" ToolSource="c:\program files (x86)\arcgis\desktop10.4\ArcToolbox\Toolboxes\Data Management Tools.tbx\DefineOverviews">DefineOverviews Databasanslutningar\sde_ortho@gda.sde\sde_ortho.GDA.Skelleftea_2012 O:\Ortofoton\Kommunen\Skellefteå2012\overview # "777327,6 7189657,44 789327,07 7197657,11" # # 5120 5120 3 NO_FORCE_OVERVIEW_TILES BILINEAR JPEG 80</Process>
<Process Date="20180815" Time="130548" ToolSource="c:\program files (x86)\arcgis\desktop10.4\ArcToolbox\Toolboxes\Data Management Tools.tbx\BuildOverviews">BuildOverviews Databasanslutningar\sde_ortho@gda.sde\sde_ortho.GDA.Skelleftea_2012 # DEFINE_MISSING_TILES GENERATE_OVERVIEWS GENERATE_MISSING_IMAGES REGENERATE_STALE_IMAGES</Process>
<Process Date="20180815" Time="135235" ToolSource="c:\program files (x86)\arcgis\desktop10.4\ArcToolbox\Toolboxes\Data Management Tools.tbx\DefineOverviews">DefineOverviews Databasanslutningar\sde_ortho@gda.sde\sde_ortho.GDA.Skelleftea_2012 O:\Höjddata\Lutning\overview # "777327,6 7189657,44 789327,07 7197657,11" # # 5120 5120 3 NO_FORCE_OVERVIEW_TILES BILINEAR JPEG 80</Process>
<Process Date="20180815" Time="140111" ToolSource="c:\program files (x86)\arcgis\desktop10.4\ArcToolbox\Toolboxes\Data Management Tools.tbx\BuildOverviews">BuildOverviews Databasanslutningar\sde_ortho@gda.sde\sde_ortho.GDA.Skelleftea_2012 # DEFINE_MISSING_TILES GENERATE_OVERVIEWS GENERATE_MISSING_IMAGES REGENERATE_STALE_IMAGES</Process>
<Process Date="20181109" Time="090000" ToolSource="c:\program files (x86)\arcgis\desktop10.4\ArcToolbox\Toolboxes\Data Management Tools.tbx\DefineOverviews">DefineOverviews Databasanslutningar\sde_ortho@gda.sde\sde_ortho.GDA.Skelleftea_2012 O:\Ortofoton\Kommunen\Skellefteå2012\overview # "777327,6 7189657,44 789327,07 7197657,11" # # 5120 5120 3 NO_FORCE_OVERVIEW_TILES BILINEAR JPEG 80</Process>
<Process Date="20181109" Time="091044" ToolSource="c:\program files (x86)\arcgis\desktop10.4\ArcToolbox\Toolboxes\Data Management Tools.tbx\BuildOverviews">BuildOverviews Databasanslutningar\sde_ortho@gda.sde\sde_ortho.GDA.Skelleftea_2012 # DEFINE_MISSING_TILES GENERATE_OVERVIEWS GENERATE_MISSING_IMAGES REGENERATE_STALE_IMAGES</Process>
<Process Date="20181109" Time="132045" ToolSource="c:\program files (x86)\arcgis\desktop10.4\ArcToolbox\Toolboxes\Data Management Tools.tbx\RemoveRastersFromMosaicDataset">RemoveRastersFromMosaicDataset Databasanslutningar\sde_ortho@gda.sde\sde_ortho.GDA.Skelleftea_2012 "Category = 2" UPDATE_BOUNDARY MARK_OVERVIEW_ITEMS DELETE_OVERVIEW_IMAGES DELETE_ITEM_CACHE REMOVE_MOSAICDATASET_ITEMS UPDATE_CELL_SIZES</Process>
<Process Date="20181109" Time="132239" ToolSource="c:\program files (x86)\arcgis\desktop10.4\ArcToolbox\Toolboxes\Data Management Tools.tbx\RemoveRastersFromMosaicDataset">RemoveRastersFromMosaicDataset Databasanslutningar\sde_ortho@gda.sde\sde_ortho.GDA.Skelleftea_2012 "OBJECTID &gt;95" UPDATE_BOUNDARY MARK_OVERVIEW_ITEMS DELETE_OVERVIEW_IMAGES DELETE_ITEM_CACHE REMOVE_MOSAICDATASET_ITEMS UPDATE_CELL_SIZES</Process>
<Process Date="20181109" Time="132641" ToolSource="c:\program files (x86)\arcgis\desktop10.4\ArcToolbox\Toolboxes\Data Management Tools.tbx\DefineOverviews">DefineOverviews Databasanslutningar\sde_ortho@gda.sde\sde_ortho.GDA.Skelleftea_2012 O:\Ortofoton\Kommunen\Skellefteå2012\overview # "777327,6 7189657,44 789327,07 7197657,11" # # 5120 5120 3 NO_FORCE_OVERVIEW_TILES BILINEAR JPEG 80</Process>
<Process Date="20181109" Time="154145" ToolSource="c:\program files (x86)\arcgis\desktop10.4\ArcToolbox\Toolboxes\Data Management Tools.tbx\BuildOverviews">BuildOverviews Databasanslutningar\sde_ortho@gda.sde\sde_ortho.GDA.Skelleftea_2012 # DEFINE_MISSING_TILES GENERATE_OVERVIEWS IGNORE_MISSING_IMAGES IGNORE_STALE_IMAGES</Process>
</lineage>
<itemProps>
<itemName Sync="TRUE">sde_ortho.GDA.Skelleftea_2012</itemName>
<itemLocation>
<linkage Sync="TRUE">Server=dsgeosecmaprod; Service=sde:sqlserver:dsgeosecmaprod; Database=sde_ortho; User=gda; Version=sde.DEFAULT</linkage>
<protocol Sync="TRUE">ArcSDE Connection</protocol>
</itemLocation>
<nativeExtBox>
<westBL Sync="TRUE">777860.440000</westBL>
<eastBL Sync="TRUE">789253.920000</eastBL>
<southBL Sync="TRUE">7190194.970000</southBL>
<northBL Sync="TRUE">7197484.980000</northBL>
<exTypeCode Sync="TRUE">1</exTypeCode>
</nativeExtBox>
</itemProps>
<coordRef>
<type Sync="TRUE">Projected</type>
<geogcsn Sync="TRUE">GCS_SWEREF99</geogcsn>
<csUnits Sync="TRUE">Linear Unit: Meter (1.000000)</csUnits>
<projcsn Sync="TRUE">SWEREF99_TM</projcsn>
<peXml Sync="TRUE">&lt;ProjectedCoordinateSystem xsi:type='typens:ProjectedCoordinateSystem' xmlns:xsi='http://www.w3.org/2001/XMLSchema-instance' xmlns:xs='http://www.w3.org/2001/XMLSchema' xmlns:typens='http://www.esri.com/schemas/ArcGIS/10.5'&gt;&lt;WKT&gt;PROJCS[&amp;quot;SWEREF99_TM&amp;quot;,GEOGCS[&amp;quot;GCS_SWEREF99&amp;quot;,DATUM[&amp;quot;D_SWEREF99&amp;quot;,SPHEROID[&amp;quot;GRS_1980&amp;quot;,6378137.0,298.257222101]],PRIMEM[&amp;quot;Greenwich&amp;quot;,0.0],UNIT[&amp;quot;Degree&amp;quot;,0.0174532925199433]],PROJECTION[&amp;quot;Transverse_Mercator&amp;quot;],PARAMETER[&amp;quot;False_Easting&amp;quot;,500000.0],PARAMETER[&amp;quot;False_Northing&amp;quot;,0.0],PARAMETER[&amp;quot;Central_Meridian&amp;quot;,15.0],PARAMETER[&amp;quot;Scale_Factor&amp;quot;,0.9996],PARAMETER[&amp;quot;Latitude_Of_Origin&amp;quot;,0.0],UNIT[&amp;quot;Meter&amp;quot;,1.0],AUTHORITY[&amp;quot;EPSG&amp;quot;,3006]]&lt;/WKT&gt;&lt;XOrigin&gt;-5120900&lt;/XOrigin&gt;&lt;YOrigin&gt;-9998100&lt;/YOrigin&gt;&lt;XYScale&gt;450445547.3910538&lt;/XYScale&gt;&lt;ZOrigin&gt;-100000&lt;/ZOrigin&gt;&lt;ZScale&gt;10000&lt;/ZScale&gt;&lt;MOrigin&gt;-100000&lt;/MOrigin&gt;&lt;MScale&gt;10000&lt;/MScale&gt;&lt;XYTolerance&gt;0.001&lt;/XYTolerance&gt;&lt;ZTolerance&gt;0.001&lt;/ZTolerance&gt;&lt;MTolerance&gt;0.001&lt;/MTolerance&gt;&lt;HighPrecision&gt;true&lt;/HighPrecision&gt;&lt;WKID&gt;3006&lt;/WKID&gt;&lt;LatestWKID&gt;3006&lt;/LatestWKID&gt;&lt;/ProjectedCoordinateSystem&gt;</peXml>
</coordRef>
<RasterProperties>
<General>
<PixelDepth Sync="TRUE">8</PixelDepth>
<HasColormap Sync="TRUE">FALSE</HasColormap>
<CompressionType Sync="TRUE">None</CompressionType>
<NumBands Sync="TRUE">3</NumBands>
<Format Sync="TRUE">AMD</Format>
<HasPyramids Sync="TRUE">TRUE</HasPyramids>
<SourceType Sync="TRUE">continuous</SourceType>
<PixelType Sync="TRUE">unsigned integer</PixelType>
<NoDataValue Sync="TRUE"/>
</General>
<Properties>
<MaxImageHeight Sync="TRUE">4100</MaxImageHeight>
<MaxImageWidth Sync="TRUE">15000</MaxImageWidth>
<MaxRecordCount Sync="TRUE">1000</MaxRecordCount>
<MaxDownloadImageCount Sync="TRUE">20</MaxDownloadImageCount>
<MaxDownloadSizeLimit Sync="TRUE">2048</MaxDownloadSizeLimit>
<MaxMosaicImageCount Sync="TRUE">20</MaxMosaicImageCount>
<DefaultCompressionQuality Sync="TRUE">75</DefaultCompressionQuality>
<DefaultCompressionTolerance Sync="TRUE">0,01</DefaultCompressionTolerance>
<BlendWidth Sync="TRUE">10</BlendWidth>
<ViewpointSpacingX Sync="TRUE">600</ViewpointSpacingX>
<ViewpointSpacingY Sync="TRUE">300</ViewpointSpacingY>
<AllowedItemMetadata Sync="TRUE">Basic</AllowedItemMetadata>
<DefaultResamplingMethod Sync="TRUE">1</DefaultResamplingMethod>
<AllowedMosaicMethods Sync="TRUE">NorthWest,Center,LockRaster,ByAttribute,Nadir,Viewpoint,Seamline,None</AllowedMosaicMethods>
<AllowedCompressions Sync="TRUE">None,JPEG,LZ77,LERC</AllowedCompressions>
<AllowedMensurationCapabilities Sync="TRUE">None</AllowedMensurationCapabilities>
<AvailableMensurationCapabilities Sync="TRUE">None,Basic,Base-Top Height,Top-Top Shadow Height,Base-Top Shadow Height,3D</AvailableMensurationCapabilities>
<ClipToBoundary Sync="TRUE">-1</ClipToBoundary>
<FootprintMayContainNoData Sync="TRUE">-1</FootprintMayContainNoData>
<CellSizeTolerance Sync="TRUE">0,8</CellSizeTolerance>
<MinimumPixelContribution Sync="TRUE">1</MinimumPixelContribution>
<AvailableMosaicMethods Sync="TRUE">NorthWest,Center,LockRaster,ByAttribute,Nadir,Viewpoint,Seamline,None</AvailableMosaicMethods>
<AvailableCompressionMethods Sync="TRUE">None,JPEG,LZ77,LERC</AvailableCompressionMethods>
<AvailableItemMetadataLevels Sync="TRUE">None,Basic,Full</AvailableItemMetadataLevels>
<ConfigKeyword Sync="TRUE"/>
<BandDefinitionKeyword Sync="TRUE">NaturalColor</BandDefinitionKeyword>
<AllowedFields Sync="TRUE">Name,MinPS,MaxPS,LowPS,HighPS,Tag,GroupName,ProductName,CenterX,CenterY,ZOrder,Shape.STArea(),Shape.STLength()</AllowedFields>
<TimeStamp.RemoveItems Sync="TRUE">43413,515668588</TimeStamp.RemoveItems>
<TimeStamp.UpdateExtent Sync="TRUE">43413,5156924653</TimeStamp.UpdateExtent>
<ApplyColorCorrection Sync="TRUE">0</ApplyColorCorrection>
<LowCellSize Sync="TRUE">0,07</LowCellSize>
<HighCellSize Sync="TRUE">51,03</HighCellSize>
<MaxCellSize Sync="TRUE">2551,5</MaxCellSize>
</Properties>
<Functions Sync="TRUE">
<Function Description="Extraherar eller utesluter en yta i ett raster enligt en uppsättning utbredningar." Name="Funktionen Klipp">
<Arguments>
<Raster>FunktionenMosaik.OutputRaster</Raster>
<ClippingType>1</ClippingType>
<Extent>777860.480100 7190194.986800 789253.898600 7197484.940700</Extent>
<ClippingGeometry/>
<ClippingRaster/>
<UseInputFeatureGeometry>-1</UseInputFeatureGeometry>
</Arguments>
</Function>
<Function Description="Utför en mosaik i realtid på en rasterkatalog." Name="Funktionen Mosaik"/>
</Functions>
</RasterProperties>
</DataProperties>
<SyncDate>20191107</SyncDate>
<SyncTime>13271500</SyncTime>
<ModDate>20191107</ModDate>
<ModTime>13271500</ModTime>
</Esri>
<dataIdInfo>
<envirDesc Sync="TRUE"> Version 6.2 (Build 9200) ; Esri ArcGIS 10.5.1.7333</envirDesc>
<dataLang>
<languageCode Sync="TRUE" value="swe"/>
<countryCode Sync="TRUE" value="SWE"/>
</dataLang>
<idCitation>
<resTitle Sync="TRUE">SKE_Ortofoton_Skelleftea_2012_ext</resTitle>
<presForm>
<PresFormCd Sync="TRUE" value="005"/>
</presForm>
</idCitation>
<spatRpType>
<SpatRepTypCd Sync="TRUE" value="002"/>
</spatRpType>
<dataExt>
<geoEle>
<GeoBndBox esriExtentType="search">
<exTypeCode Sync="TRUE">1</exTypeCode>
<westBL Sync="TRUE">20.837992</westBL>
<eastBL Sync="TRUE">21.090454</eastBL>
<northBL Sync="TRUE">64.786238</northBL>
<southBL Sync="TRUE">64.711571</southBL>
</GeoBndBox>
</geoEle>
</dataExt>
<idAbs/>
<searchKeys>
<keyword>orto</keyword>
<keyword>ortofoto</keyword>
</searchKeys>
<idPurp>Ortofoton över Skellefteå centralort från 2012 med 8cm upplösning.</idPurp>
<idCredit/>
<resConst>
<Consts>
<useLimit/>
</Consts>
</resConst>
</dataIdInfo>
<mdLang>
<languageCode Sync="TRUE" value="swe"/>
<countryCode Sync="TRUE" value="SWE"/>
</mdLang>
<refSysInfo>
<RefSystem>
<refSysID>
<identCode Sync="TRUE" code="3006"/>
<idCodeSpace Sync="TRUE">EPSG</idCodeSpace>
<idVersion Sync="TRUE">7.4.4(9.0.0)</idVersion>
</refSysID>
</RefSystem>
</refSysInfo>
<spatRepInfo>
<Georect>
<cellGeo>
<CellGeoCd Sync="TRUE" value="002"/>
</cellGeo>
<numDims Sync="TRUE">2</numDims>
<tranParaAv Sync="TRUE">1</tranParaAv>
<chkPtAv Sync="TRUE">0</chkPtAv>
<cornerPts>
<pos Sync="TRUE">777860.440000 7190194.970000</pos>
</cornerPts>
<cornerPts>
<pos Sync="TRUE">777860.440000 7197484.980000</pos>
</cornerPts>
<cornerPts>
<pos Sync="TRUE">789253.920000 7197484.980000</pos>
</cornerPts>
<cornerPts>
<pos Sync="TRUE">789253.920000 7190194.970000</pos>
</cornerPts>
<centerPt>
<pos Sync="TRUE">783557.180000 7193839.975000</pos>
</centerPt>
<axisDimension type="002">
<dimSize Sync="TRUE">162764</dimSize>
<dimResol>
<value Sync="TRUE" uom="m">0.070000</value>
</dimResol>
</axisDimension>
<axisDimension type="001">
<dimSize Sync="TRUE">104143</dimSize>
<dimResol>
<value Sync="TRUE" uom="m">0.070000</value>
</dimResol>
</axisDimension>
<ptInPixel>
<PixOrientCd Sync="TRUE" value="001"/>
</ptInPixel>
</Georect>
</spatRepInfo>
<contInfo>
<ImgDesc>
<contentTyp>
<ContentTypCd Sync="TRUE" value="001"/>
</contentTyp>
<covDim>
<Band>
<dimDescrp Sync="TRUE">Red</dimDescrp>
<maxVal Sync="TRUE">255.000000</maxVal>
<minVal Sync="TRUE">0.000000</minVal>
<bitsPerVal Sync="TRUE">8</bitsPerVal>
<valUnit>
<UOM type="length"/>
</valUnit>
</Band>
<Band>
<dimDescrp Sync="TRUE">Green</dimDescrp>
<maxVal Sync="TRUE">255.000000</maxVal>
<minVal Sync="TRUE">0.000000</minVal>
<bitsPerVal Sync="TRUE">8</bitsPerVal>
<valUnit>
<UOM type="length"/>
</valUnit>
</Band>
<Band>
<dimDescrp Sync="TRUE">Blue</dimDescrp>
<maxVal Sync="TRUE">255.000000</maxVal>
<minVal Sync="TRUE">0.000000</minVal>
<bitsPerVal Sync="TRUE">8</bitsPerVal>
<valUnit>
<UOM type="length"/>
</valUnit>
</Band>
</covDim>
</ImgDesc>
</contInfo>
<mdDateSt Sync="TRUE">20191107</mdDateSt>
</metadata>
