View In:
ArcGIS JavaScript
ArcGIS Online Map Viewer
ArcGIS Earth
Service Description: Test/sde_secondary_GDA_Test2
Name: Test/sde_secondary_GDA_Test2
Description:
Single Fused Map Cache: false
Extent:
XMin: 793091.369847751
YMin: 7190620.96996216
XMax: 793400.369847751
YMax: 7190786.21996216
Spatial Reference: 3006
(3006)
LatestVCSWkid(0)
Initial Extent:
XMin: 793091.369847751
YMin: 7190620.96996216
XMax: 793400.369847751
YMax: 7190786.21996216
Spatial Reference: 3006
(3006)
LatestVCSWkid(0)
Full Extent:
XMin: 793091.369847751
YMin: 7190620.96996216
XMax: 793400.369847751
YMax: 7190786.21996216
Spatial Reference: 3006
(3006)
LatestVCSWkid(0)
Pixel Size X: 0.25
Pixel Size Y: 0.25
Band Count: 4
Pixel Type: U8
RasterFunction Infos: {"rasterFunctionInfos": [{
"name": "None",
"description": "",
"help": ""
}]}
Mensuration Capabilities: Basic
Inspection Capabilities:
Has Histograms: true
Has Colormap: false
Has Multi Dimensions : false
Rendering Rule:
Min Scale: 0
Max Scale: 0
Copyright Text:
Service Data Type: esriImageServiceDataTypeGeneric
Min Values: 19, 19, 19, 19
Max Values: 255, 255, 255, 255
Mean Values: 96.78355095985782, 102.9623774167805, 103.9484167201145, 141.71131254008588
Standard Deviation Values: 42.69790301449318, 39.78102781944737, 38.12216050633207, 73.26721259406239
Object ID Field:
Fields:
None
Default Mosaic Method: Center
Allowed Mosaic Methods:
SortField:
SortValue: null
Mosaic Operator: First
Default Compression Quality: 75
Default Resampling Method: Bilinear
Max Record Count: null
Max Image Height: 4100
Max Image Width: 15000
Max Download Image Count: null
Max Mosaic Image Count: null
Allow Raster Function: true
Allow Copy: true
Allow Analysis: true
Allow Compute TiePoints: false
Supports Statistics: false
Supports Advanced Queries: false
Use StandardizedQueries: true
Raster Type Infos:
Name: Raster Dataset
Description: Supports all ArcGIS Raster Datasets
Help:
Has Raster Attribute Table: false
Edit Fields Info: null
Ownership Based AccessControl For Rasters: null
Child Resources:
Info
Histograms
Statistics
Key Properties
Legend
Raster Function Infos
Supported Operations:
Export Image
Identify
Measure
Compute Histograms
Compute Statistics Histograms
Get Samples
Compute Class Statistics
Query Boundary
Compute Pixel Location
Compute Angles
Validate
Project